BEGIN:VCALENDAR
VERSION:2.0
PRODID:-//Drupal iCal API//EN
X-WR-CALNAME:Events items teaser
X-WR-TIMEZONE:America/Toronto
BEGIN:VTIMEZONE
TZID:America/Toronto
X-LIC-LOCATION:America/Toronto
BEGIN:DAYLIGHT
TZNAME:EDT
TZOFFSETFROM:-0500
TZOFFSETTO:-0400
DTSTART:20220313T070000
END:DAYLIGHT
BEGIN:STANDARD
TZNAME:EST
TZOFFSETFROM:-0400
TZOFFSETTO:-0500
DTSTART:20221106T060000
END:STANDARD
END:VTIMEZONE
BEGIN:VEVENT
UID:69e6abb30e758
DTSTART;TZID=America/Toronto:20221107T110000
SEQUENCE:0
TRANSP:TRANSPARENT
DTEND;TZID=America/Toronto:20221107T110000
URL:https://uwaterloo.ca/combinatorics-and-optimization/events/algebraic-gr
 aph-theory-soffia-arnadottir-0
SUMMARY:Algebraic Graph Theory - Soffía Árnadóttir
CLASS:PUBLIC
DESCRIPTION:TITLE: Cayley graphs\, association schemes and state transfer\n
 \nSpeaker:\n Soffía Árnadóttir\n\nAffiliation:\n Technical University o
 f Denmark\n\nLocation:\n contact Sabrina Lato for Zoom link\n\nABSTRACT: T
 he aim of this talk is to give some examples of how\nassociation schemes c
 an be used as a tool to study certain properties\nof Cayley graphs. In par
 ticular\, they contribute to our long-term goal\nof characterizing perfect
  state transfer in Cayley graphs. The talk is\nbased on the following pape
 r https://arxiv.org/abs/2204.09802.
DTSTAMP:20260420T224155Z
END:VEVENT
END:VCALENDAR