BEGIN:VCALENDAR
VERSION:2.0
PRODID:-//Drupal iCal API//EN
X-WR-CALNAME:Events items teaser
X-WR-TIMEZONE:America/Toronto
BEGIN:VTIMEZONE
TZID:America/Toronto
X-LIC-LOCATION:America/Toronto
BEGIN:DAYLIGHT
TZNAME:EDT
TZOFFSETFROM:-0500
TZOFFSETTO:-0400
DTSTART:20220313T070000
END:DAYLIGHT
BEGIN:STANDARD
TZNAME:EST
TZOFFSETFROM:-0400
TZOFFSETTO:-0500
DTSTART:20221106T060000
END:STANDARD
END:VTIMEZONE
BEGIN:VEVENT
UID:69e4f9d1188f1
DTSTART;TZID=America/Toronto:20221118T153000
SEQUENCE:0
TRANSP:TRANSPARENT
DTEND;TZID=America/Toronto:20221118T153000
URL:https://uwaterloo.ca/combinatorics-and-optimization/events/tutte-colloq
 uium-vera-traub
SUMMARY:Tutte Colloquium - Vera Traub
CLASS:PUBLIC
DESCRIPTION:Title: Approximating Weighted Connectivity Augmentation below F
 actor 2\n\nSpeaker:\n Vera Traub\n\nAffiliation:\n Research Institute for 
 Discrete Mathematics\, University of Bonn\n\nLocation:\n MC 5501 or contac
 t Melissa Cambridge for Zoom link\n\nAbstract:  The Weighted Connectivity
  Augmentation Problem (WCAP) asks\nto increase the edge-connectivity of a 
 graph in the cheapest possible\nway by adding edges from a given set. It i
 s one of the most elementary\nnetwork design problems for which no better-
 than-2 approximation\nalgorithm has been known\, whereas 2-approximations 
 can be easily\nobtained through a variety of well-known techniques.
DTSTAMP:20260419T155041Z
END:VEVENT
END:VCALENDAR