BEGIN:VCALENDAR
VERSION:2.0
PRODID:-//Drupal iCal API//EN
X-WR-CALNAME:Events items teaser
X-WR-TIMEZONE:America/Toronto
BEGIN:VTIMEZONE
TZID:America/Toronto
X-LIC-LOCATION:America/Toronto
BEGIN:DAYLIGHT
TZNAME:EDT
TZOFFSETFROM:-0500
TZOFFSETTO:-0400
DTSTART:20220313T070000
END:DAYLIGHT
BEGIN:STANDARD
TZNAME:EST
TZOFFSETFROM:-0400
TZOFFSETTO:-0500
DTSTART:20221106T060000
END:STANDARD
END:VTIMEZONE
BEGIN:VEVENT
UID:69e28b5ca708c
DTSTART;TZID=America/Toronto:20221118T120000
SEQUENCE:0
TRANSP:TRANSPARENT
DTEND;TZID=America/Toronto:20221118T120000
URL:https://uwaterloo.ca/combinatorics-and-optimization/events/combinatoria
 l-optimization-reading-group-madison-van-dyk-1
SUMMARY:Combinatorial Optimization Reading Group - Madison Van Dyk
CLASS:PUBLIC
DESCRIPTION:Title: Approximation algorithms for stochastic orienteering   
 \n\nSpeaker:\n Madison Van Dyk\n\nAffiliation:\n University of Waterloo\n\
 nLocation:\n MC 6029 or contact Rian Neogi for Zoom link\n\nAbstract: This
  week we revisit the stochastic orienteering problem in\nwhich we are giv
 en a metric graph where each node has a deterministic\nreward and a random
  size. The goal is to adaptively decide on which\nnodes to visit to maximi
 ze the expected reward\, while not exceeding\nthe budget B on the distance
  plus the size of jobs processed.
DTSTAMP:20260417T193452Z
END:VEVENT
END:VCALENDAR