BEGIN:VCALENDAR
VERSION:2.0
PRODID:-//Drupal iCal API//EN
X-WR-CALNAME:Events items teaser
X-WR-TIMEZONE:America/Toronto
BEGIN:VTIMEZONE
TZID:America/Toronto
X-LIC-LOCATION:America/Toronto
BEGIN:DAYLIGHT
TZNAME:EDT
TZOFFSETFROM:-0500
TZOFFSETTO:-0400
DTSTART:20220313T070000
END:DAYLIGHT
BEGIN:STANDARD
TZNAME:EST
TZOFFSETFROM:-0400
TZOFFSETTO:-0500
DTSTART:20221106T060000
END:STANDARD
END:VTIMEZONE
BEGIN:VEVENT
UID:69e6abae836b3
DTSTART;TZID=America/Toronto:20221117T130000
SEQUENCE:0
TRANSP:TRANSPARENT
DTEND;TZID=America/Toronto:20221117T130000
URL:https://uwaterloo.ca/combinatorics-and-optimization/events/algebraic-gr
 aph-theory-seminar-josip-smolcic
SUMMARY:Algebraic Graph Theory Seminar - Josip Smolcic
CLASS:PUBLIC
DESCRIPTION:Title: Algorithms for Analytic Combinatorics in Several Variabl
 es\n\nSpeaker:\n Josip Smolcic\n\nAffiliation:\n University of Waterloo\n\
 nLocation:\n MC 5479\n\nAbstract: In this presentation we will see how to 
 apply the theory of\ncomplex analysis to study multivariate generating ser
 ies by looking at\nseveral examples. Specifically\, given a rational bivar
 iate generating\nfunction G(x\, y)/H(x\, y) with coefficients f_{i\, j} th
 e objective is\nalgorithmically determine asymptotic formulas to approxima
 te f_{rn\,\nsn} as n goes to infinity\, for fixed positive integers r and 
 s.
DTSTAMP:20260420T224150Z
END:VEVENT
END:VCALENDAR