BEGIN:VCALENDAR
VERSION:2.0
PRODID:-//Drupal iCal API//EN
X-WR-CALNAME:Events items teaser
X-WR-TIMEZONE:America/Toronto
BEGIN:VTIMEZONE
TZID:America/Toronto
X-LIC-LOCATION:America/Toronto
BEGIN:DAYLIGHT
TZNAME:EDT
TZOFFSETFROM:-0500
TZOFFSETTO:-0400
DTSTART:20220313T070000
END:DAYLIGHT
BEGIN:STANDARD
TZNAME:EST
TZOFFSETFROM:-0400
TZOFFSETTO:-0500
DTSTART:20221106T060000
END:STANDARD
END:VTIMEZONE
BEGIN:VEVENT
UID:69e3fc08b4f66
DTSTART;TZID=America/Toronto:20221201T130000
SEQUENCE:0
TRANSP:TRANSPARENT
DTEND;TZID=America/Toronto:20221201T130000
URL:https://uwaterloo.ca/combinatorics-and-optimization/events/algebraic-co
 mbinatorics-sergey-yurkevich
SUMMARY:Algebraic Combinatorics - Sergey Yurkevich
CLASS:PUBLIC
DESCRIPTION:TITLE: Algebraicity of solutions of functional equations with 
 one\ncatalytic variable\n\nSpeaker:\n Sergey Yurkevich\n\nAffiliation:\n U
 niversity Paris-Saclay\n\nLocation:\n MC 5479 or contact Olya Mandelshtam
  for Zoom link\n\nABSTRACT: Abstract: Numerous combinatorial enumeration
  problems\nreduce to the study of functional equations which can be solved
  by a\nuniform method introduced by Bousquet-Mélou and Jehanne in 2006. I
 n\nmy talk\, I will first briefly explain this result and its proof. Then\
 nI will present a new generalization of it to the case of systems of\nfunc
 tional equations with one catalytic variable. The method is\nconstructive 
 and yields an algorithm for computing the minimal\npolynomials of interest
 .
DTSTAMP:20260418T214752Z
END:VEVENT
END:VCALENDAR