BEGIN:VCALENDAR
VERSION:2.0
PRODID:-//Drupal iCal API//EN
X-WR-CALNAME:Events items teaser
X-WR-TIMEZONE:America/Toronto
BEGIN:VTIMEZONE
TZID:America/Toronto
X-LIC-LOCATION:America/Toronto
BEGIN:DAYLIGHT
TZNAME:EDT
TZOFFSETFROM:-0500
TZOFFSETTO:-0400
DTSTART:20220313T070000
END:DAYLIGHT
BEGIN:STANDARD
TZNAME:EST
TZOFFSETFROM:-0400
TZOFFSETTO:-0500
DTSTART:20221106T060000
END:STANDARD
END:VTIMEZONE
BEGIN:VEVENT
UID:69e56f54790e3
DTSTART;TZID=America/Toronto:20221213T153000
SEQUENCE:0
TRANSP:TRANSPARENT
DTEND;TZID=America/Toronto:20221213T153000
URL:https://uwaterloo.ca/combinatorics-and-optimization/events/iqc-math-cs-
 seminar-mario-szegedy
SUMMARY:IQC MATH CS Seminar - Mario Szegedy
CLASS:PUBLIC
DESCRIPTION:TITLE: Generating k EPR-pairs from an n-party resource state\n
 \nSpeaker:\n Mario Szegedy\n\nAffiliation:\n Rutgers University\n\nLocatio
 n:\n QNC 0101 or contact Eva Lee for Zoom lin\n\nABSTRACT: Motivated by q
 uantum network applications over classical\nchannels\, we initiate the stu
 dy of n-party resource states from which\nLOCC protocols can create EPR-pa
 irs between any k disjoint pairs of\nparties.
DTSTAMP:20260420T001204Z
END:VEVENT
END:VCALENDAR