BEGIN:VCALENDAR
VERSION:2.0
PRODID:-//Drupal iCal API//EN
X-WR-CALNAME:Events items teaser
X-WR-TIMEZONE:America/Toronto
BEGIN:VTIMEZONE
TZID:America/Toronto
X-LIC-LOCATION:America/Toronto
BEGIN:DAYLIGHT
TZNAME:EDT
TZOFFSETFROM:-0500
TZOFFSETTO:-0400
DTSTART:20220313T070000
END:DAYLIGHT
BEGIN:STANDARD
TZNAME:EST
TZOFFSETFROM:-0400
TZOFFSETTO:-0500
DTSTART:20221106T060000
END:STANDARD
END:VTIMEZONE
BEGIN:VEVENT
UID:69e5d54fef401
DTSTART;TZID=America/Toronto:20221212T150000
SEQUENCE:0
TRANSP:TRANSPARENT
DTEND;TZID=America/Toronto:20221212T150000
URL:https://uwaterloo.ca/combinatorics-and-optimization/events/graphs-and-m
 atroid-seminar-cleophee-robin
SUMMARY:Graphs and Matroid Seminar - Cléophée Robin
CLASS:PUBLIC
DESCRIPTION:TITLE: When all holes have the same length\n\nSpeaker:\n Cléo
 phée Robin\n\nAffiliation:\n University of Waterloo\n\nLocation:\n MC 602
 9\n\nABSTRACT: A _hole_ is an induced cycle of length at least 4. For an\
 ninteger k ≥ 4\, we denote by Ck\, the class of graphs where every hole\
 nhas length k. We have defined a new class of graphs named _blowup of\nℓ
 -templates_ whose all holes have length 2ℓ + 1. Using earlier\nresults o
 n other related classes of graphs\, we did obtain the\nfollowing structura
 l theorem :
DTSTAMP:20260420T072711Z
END:VEVENT
END:VCALENDAR