BEGIN:VCALENDAR
VERSION:2.0
PRODID:-//Drupal iCal API//EN
X-WR-CALNAME:Events items teaser
X-WR-TIMEZONE:America/Toronto
BEGIN:VTIMEZONE
TZID:America/Toronto
X-LIC-LOCATION:America/Toronto
BEGIN:DAYLIGHT
TZNAME:EDT
TZOFFSETFROM:-0500
TZOFFSETTO:-0400
DTSTART:20220313T070000
END:DAYLIGHT
BEGIN:STANDARD
TZNAME:EST
TZOFFSETFROM:-0400
TZOFFSETTO:-0500
DTSTART:20221106T060000
END:STANDARD
END:VTIMEZONE
BEGIN:VEVENT
UID:69e51106cfb2a
DTSTART;TZID=America/Toronto:20230119T130000
SEQUENCE:0
TRANSP:TRANSPARENT
DTEND;TZID=America/Toronto:20230119T130000
URL:https://uwaterloo.ca/combinatorics-and-optimization/events/nabla-operat
 or-super-nabla-operator-francois-bergeron
SUMMARY:From the nabla operator to the super nabla operator - François\nBe
 rgeron
CLASS:PUBLIC
DESCRIPTION:TITLE: From the nabla operator to the super nabla operator
DTSTAMP:20260419T172942Z
END:VEVENT
END:VCALENDAR