BEGIN:VCALENDAR
VERSION:2.0
PRODID:-//Drupal iCal API//EN
X-WR-CALNAME:Events items teaser
X-WR-TIMEZONE:America/Toronto
BEGIN:VTIMEZONE
TZID:America/Toronto
X-LIC-LOCATION:America/Toronto
BEGIN:DAYLIGHT
TZNAME:EDT
TZOFFSETFROM:-0500
TZOFFSETTO:-0400
DTSTART:20220313T070000
END:DAYLIGHT
BEGIN:STANDARD
TZNAME:EST
TZOFFSETFROM:-0400
TZOFFSETTO:-0500
DTSTART:20221106T060000
END:STANDARD
END:VTIMEZONE
BEGIN:VEVENT
UID:69e3f80ea704f
DTSTART;TZID=America/Toronto:20230116T113000
SEQUENCE:0
TRANSP:TRANSPARENT
DTEND;TZID=America/Toronto:20230116T113000
URL:https://uwaterloo.ca/combinatorics-and-optimization/events/new-eigenval
 ue-bound-fractional-chromatic-number-sam-spiro
SUMMARY:New Eigenvalue Bound for the Fractional Chromatic Number - Sam Spir
 o
CLASS:PUBLIC
DESCRIPTION:TITLE: New Eigenvalue Bound for the Fractional Chromatic Numbe
 r
DTSTAMP:20260418T213054Z
END:VEVENT
END:VCALENDAR