BEGIN:VCALENDAR
VERSION:2.0
PRODID:-//Drupal iCal API//EN
X-WR-CALNAME:Events items teaser
X-WR-TIMEZONE:America/Toronto
BEGIN:VTIMEZONE
TZID:America/Toronto
X-LIC-LOCATION:America/Toronto
BEGIN:DAYLIGHT
TZNAME:EDT
TZOFFSETFROM:-0500
TZOFFSETTO:-0400
DTSTART:20220313T070000
END:DAYLIGHT
BEGIN:STANDARD
TZNAME:EST
TZOFFSETFROM:-0400
TZOFFSETTO:-0500
DTSTART:20221106T060000
END:STANDARD
END:VTIMEZONE
BEGIN:VEVENT
UID:69e2c21a53953
DTSTART;TZID=America/Toronto:20230202T130000
SEQUENCE:0
TRANSP:TRANSPARENT
DTEND;TZID=America/Toronto:20230202T130000
URL:https://uwaterloo.ca/combinatorics-and-optimization/events/binary-tubin
 gs-and-dyson-schwinger-equations-nick-olson
SUMMARY:Binary tubings and Dyson-Schwinger equations - Nick Olson-Harris
CLASS:PUBLIC
DESCRIPTION:TITLE: Binary tubings and Dyson-Schwinger equations
DTSTAMP:20260417T232826Z
END:VEVENT
END:VCALENDAR