BEGIN:VCALENDAR
VERSION:2.0
PRODID:-//Drupal iCal API//EN
X-WR-CALNAME:Events items teaser
X-WR-TIMEZONE:America/Toronto
BEGIN:VTIMEZONE
TZID:America/Toronto
X-LIC-LOCATION:America/Toronto
BEGIN:DAYLIGHT
TZNAME:EDT
TZOFFSETFROM:-0500
TZOFFSETTO:-0400
DTSTART:20220313T070000
END:DAYLIGHT
BEGIN:STANDARD
TZNAME:EST
TZOFFSETFROM:-0400
TZOFFSETTO:-0500
DTSTART:20221106T060000
END:STANDARD
END:VTIMEZONE
BEGIN:VEVENT
UID:69e3f8ea87aaf
DTSTART;TZID=America/Toronto:20230203T120000
SEQUENCE:0
TRANSP:TRANSPARENT
DTEND;TZID=America/Toronto:20230203T120000
URL:https://uwaterloo.ca/combinatorics-and-optimization/events/smallest-com
 pact-formulation-permutahedron-rian-neogi
SUMMARY:Smallest Compact Formulation for the Permutahedron - Rian Neogi
CLASS:PUBLIC
DESCRIPTION:TITLE: Smallest Compact Formulation for the Permutahedron
DTSTAMP:20260418T213434Z
END:VEVENT
END:VCALENDAR