BEGIN:VCALENDAR
VERSION:2.0
PRODID:-//Drupal iCal API//EN
X-WR-CALNAME:Events items teaser
X-WR-TIMEZONE:America/Toronto
BEGIN:VTIMEZONE
TZID:America/Toronto
X-LIC-LOCATION:America/Toronto
BEGIN:DAYLIGHT
TZNAME:EDT
TZOFFSETFROM:-0500
TZOFFSETTO:-0400
DTSTART:20220313T070000
END:DAYLIGHT
BEGIN:STANDARD
TZNAME:EST
TZOFFSETFROM:-0400
TZOFFSETTO:-0500
DTSTART:20221106T060000
END:STANDARD
END:VTIMEZONE
BEGIN:VEVENT
UID:69e2d26fc0391
DTSTART;TZID=America/Toronto:20230206T113000
SEQUENCE:0
TRANSP:TRANSPARENT
DTEND;TZID=America/Toronto:20230206T113000
URL:https://uwaterloo.ca/combinatorics-and-optimization/events/cheeger-type
 -inequalities-using-reweighted-eigenvalues-lap
SUMMARY:Cheeger-Type Inequalities using Reweighted Eigenvalues - Lap Chi La
 u
CLASS:PUBLIC
DESCRIPTION:TITLE: Cheeger-Type Inequalities using Reweighted Eigenvalues
DTSTAMP:20260418T003807Z
END:VEVENT
END:VCALENDAR