BEGIN:VCALENDAR
VERSION:2.0
PRODID:-//Drupal iCal API//EN
X-WR-CALNAME:Events items teaser
X-WR-TIMEZONE:America/Toronto
BEGIN:VTIMEZONE
TZID:America/Toronto
X-LIC-LOCATION:America/Toronto
BEGIN:DAYLIGHT
TZNAME:EDT
TZOFFSETFROM:-0500
TZOFFSETTO:-0400
DTSTART:20220313T070000
END:DAYLIGHT
BEGIN:STANDARD
TZNAME:EST
TZOFFSETFROM:-0400
TZOFFSETTO:-0500
DTSTART:20221106T060000
END:STANDARD
END:VTIMEZONE
BEGIN:VEVENT
UID:69e3f8f7723e4
DTSTART;TZID=America/Toronto:20230210T120000
SEQUENCE:0
TRANSP:TRANSPARENT
DTEND;TZID=America/Toronto:20230210T120000
URL:https://uwaterloo.ca/combinatorics-and-optimization/events/extended-for
 mulations-part-ii-kanstantsin-pashkovich
SUMMARY:Extended Formulations\, Part II - Kanstantsin Pashkovich
CLASS:PUBLIC
DESCRIPTION:TITLE: Extended Formulations\, Part II
DTSTAMP:20260418T213447Z
END:VEVENT
END:VCALENDAR