BEGIN:VCALENDAR
VERSION:2.0
PRODID:-//Drupal iCal API//EN
X-WR-CALNAME:Events items teaser
X-WR-TIMEZONE:America/Toronto
BEGIN:VTIMEZONE
TZID:America/Toronto
X-LIC-LOCATION:America/Toronto
BEGIN:DAYLIGHT
TZNAME:EDT
TZOFFSETFROM:-0500
TZOFFSETTO:-0400
DTSTART:20230312T070000
END:DAYLIGHT
BEGIN:STANDARD
TZNAME:EST
TZOFFSETFROM:-0400
TZOFFSETTO:-0500
DTSTART:20221106T060000
END:STANDARD
END:VTIMEZONE
BEGIN:VEVENT
UID:69e3f2a01e48d
DTSTART;TZID=America/Toronto:20230526T133000
SEQUENCE:0
TRANSP:TRANSPARENT
DTEND;TZID=America/Toronto:20230526T133000
URL:https://uwaterloo.ca/combinatorics-and-optimization/events/continuous-o
 ptimization-seminar-kay-barshad
SUMMARY:Continuous Optimization Seminar - Kay Barshad
CLASS:PUBLIC
DESCRIPTION:TITLE: Generalized Modular String Averaged Procedure and Its\nA
 pplications to Iterative Methods\n\nSpeaker:\n Kay Barshad\n\nAffiliation:
 \n University of Waterloo\n\nLocation:\n MC 6029\n\nABSTRACT: A modular st
 ring averaging procedure (MSA\, for short) for a\nfinite number of operato
 rs  was first introduced by Reich and Zalas\nin 2016. The MSA concept pro
 vides a flexible  algorithmic framework\nfor solving various feasibility 
 problems such as common fixed point\nand convex feasibility problems.
DTSTAMP:20260418T210744Z
END:VEVENT
END:VCALENDAR