BEGIN:VCALENDAR
VERSION:2.0
PRODID:-//Drupal iCal API//EN
X-WR-CALNAME:Events items teaser
X-WR-TIMEZONE:America/Toronto
BEGIN:VTIMEZONE
TZID:America/Toronto
X-LIC-LOCATION:America/Toronto
BEGIN:DAYLIGHT
TZNAME:EDT
TZOFFSETFROM:-0500
TZOFFSETTO:-0400
DTSTART:20260308T070000
END:DAYLIGHT
BEGIN:STANDARD
TZNAME:EST
TZOFFSETFROM:-0400
TZOFFSETTO:-0500
DTSTART:20251102T060000
END:STANDARD
END:VTIMEZONE
BEGIN:VEVENT
UID:69e6a15471739
DTSTART;TZID=America/Toronto:20260330T144500
SEQUENCE:0
TRANSP:TRANSPARENT
DTEND;TZID=America/Toronto:20260330T154500
URL:https://uwaterloo.ca/combinatorics-and-optimization/events/graphs-and-m
 atroids-lise-turner-anemones-and-matroids-high
SUMMARY:Graphs and Matroids - Lise Turner-Anemones and Matroids of High\nBr
 anch-Depth
CLASS:PUBLIC
DESCRIPTION:SPEAKER:\n Lise Turner\n\nAFFILIATION:\n University of Waterloo
 \n\nROOM:\n MC 5479\n\nABSTRACT:We prove a conjecture by DeVos\, Kwon and 
 Oum on the\nunavoidable minors of matroids of high branch-depth. We also c
 onsider\nthe properties of collections of crossing low order separations k
 nown\nas anemones. This is joint work with Jim Geelen and Rutger Cambell.
DTSTAMP:20260420T215740Z
END:VEVENT
END:VCALENDAR