BEGIN:VCALENDAR
VERSION:2.0
PRODID:-//Drupal iCal API//EN
X-WR-CALNAME:Events items teaser
X-WR-TIMEZONE:America/Toronto
BEGIN:VTIMEZONE
TZID:America/Toronto
X-LIC-LOCATION:America/Toronto
BEGIN:DAYLIGHT
TZNAME:EDT
TZOFFSETFROM:-0500
TZOFFSETTO:-0400
DTSTART:20130310T070000
END:DAYLIGHT
BEGIN:STANDARD
TZNAME:EST
TZOFFSETFROM:-0400
TZOFFSETTO:-0500
DTSTART:20131103T060000
END:STANDARD
END:VTIMEZONE
BEGIN:VEVENT
UID:69d3edab6c19e
DTSTART;TZID=America/Toronto:20131123T130000
SEQUENCE:0
TRANSP:TRANSPARENT
DTEND;TZID=America/Toronto:20131123T160000
URL:https://uwaterloo.ca/communication-arts/events/stage-combat-workshop-da
 niel-levinson
LOCATION:ML - Modern Languages 200 University Avenue West Theatre of the Ar
 ts (135) Waterloo ON N2L 3G1 Canada
SUMMARY:Stage Combat workshop with Daniel Levinson
CLASS:PUBLIC
DESCRIPTION:3-hour stage combat workshop with DANIEL LEVINSON\, a certifi
 ed Fight\nMaster with Fight Directors Canada.
DTSTAMP:20260406T173019Z
END:VEVENT
END:VCALENDAR