BEGIN:VCALENDAR
VERSION:2.0
PRODID:-//Drupal iCal API//EN
X-WR-CALNAME:Events items teaser
X-WR-TIMEZONE:America/Toronto
BEGIN:VTIMEZONE
TZID:America/Toronto
X-LIC-LOCATION:America/Toronto
BEGIN:DAYLIGHT
TZNAME:EDT
TZOFFSETFROM:-0500
TZOFFSETTO:-0400
DTSTART:20160313T070000
END:DAYLIGHT
BEGIN:STANDARD
TZNAME:EST
TZOFFSETFROM:-0400
TZOFFSETTO:-0500
DTSTART:20151101T060000
END:STANDARD
END:VTIMEZONE
BEGIN:VEVENT
UID:69d3be58c77d8
DTSTART;TZID=America/Toronto:20160328T161500
SEQUENCE:0
TRANSP:TRANSPARENT
DTEND;TZID=America/Toronto:20160328T190000
URL:https://uwaterloo.ca/communication-arts/events/ignite-329-enlighten-us-
 make-it-quick
LOCATION:ML - Modern Languages 200 University Avenue West Theatre of the Ar
 ts Waterloo N2l 3G1 Canada
SUMMARY:Ignite 329: Enlighten us\, but make it quick!
CLASS:PUBLIC
DESCRIPTION:IGNITE 329: ENLIGHTEN US\, BUT MAKE IT QUICK!\n\nIgnite329 is a
  fast-paced evening of 5-minute\, wide-ranging talks by\npassionate studen
 t speakers from the DAC/SPCOM 329 course. \n\nThink of this event as a re
 ally fast set of TedTalks: 5 minutes long\,\nwith beautiful slide decks th
 at auto-advance every 15 seconds\, and\nspeakers without notes and a lot o
 f energy. 
DTSTAMP:20260406T140824Z
END:VEVENT
END:VCALENDAR