BEGIN:VCALENDAR
VERSION:2.0
PRODID:-//Drupal iCal API//EN
X-WR-CALNAME:Events items teaser
X-WR-TIMEZONE:America/Toronto
BEGIN:VTIMEZONE
TZID:America/Toronto
X-LIC-LOCATION:America/Toronto
BEGIN:DAYLIGHT
TZNAME:EDT
TZOFFSETFROM:-0500
TZOFFSETTO:-0400
DTSTART:20160313T070000
END:DAYLIGHT
BEGIN:STANDARD
TZNAME:EST
TZOFFSETFROM:-0400
TZOFFSETTO:-0500
DTSTART:20161106T060000
END:STANDARD
END:VTIMEZONE
BEGIN:VEVENT
UID:69d3f2a846f3c
DTSTART;TZID=America/Toronto:20170302T163000
SEQUENCE:0
TRANSP:TRANSPARENT
DTEND;TZID=America/Toronto:20170302T183000
URL:https://uwaterloo.ca/communication-arts/events/book-launch-performing-a
 ntiracist-pedagogy-rhetoric-writing
LOCATION:SCH - South Campus Hall 200 University Avenue West The Bookstore W
 aterloo ON N2L 3G1 Canada
SUMMARY:Book Launch: Performing Antiracist Pedagogy in Rhetoric\, Writing\,
  and\nCommunication
CLASS:PUBLIC
DESCRIPTION:Book Launch: Performing Antiracist Pedagogy in Rhetoric\, Writi
 ng\, and\nCommunication
DTSTAMP:20260406T175136Z
END:VEVENT
END:VCALENDAR