BEGIN:VCALENDAR
VERSION:2.0
PRODID:-//Drupal iCal API//EN
X-WR-CALNAME:Events items teaser
X-WR-TIMEZONE:America/Toronto
BEGIN:VTIMEZONE
TZID:America/Toronto
X-LIC-LOCATION:America/Toronto
BEGIN:DAYLIGHT
TZNAME:EDT
TZOFFSETFROM:-0500
TZOFFSETTO:-0400
DTSTART:20170312T070000
END:DAYLIGHT
BEGIN:STANDARD
TZNAME:EST
TZOFFSETFROM:-0400
TZOFFSETTO:-0500
DTSTART:20161106T060000
END:STANDARD
END:VTIMEZONE
BEGIN:VEVENT
UID:69d3f2871ceae
DTSTART;TZID=America/Toronto:20171101T190000
SEQUENCE:0
TRANSP:TRANSPARENT
DTEND;TZID=America/Toronto:20171101T210000
URL:https://uwaterloo.ca/communication-arts/events/discussion-truth-and-rec
 onciliation-canadian-post-secondary
LOCATION:Knox Waterloo Presbyterian Church 50 Erb Street West Waterloo ON C
 anada
SUMMARY:Discussion on Truth and Reconciliation in Canadian Post-Secondary\n
 Education
CLASS:PUBLIC
DESCRIPTION:Join us for a discussion on Truth and Reconciliation in Canadia
 n\nPost-Secondary Education.\n\nWHEN: Wednesday\, November 1\, 7PM to 9PM\
 n\nWHERE: Knox Waterloo Presbyterian Church\, 50 Erb Street West\, Waterlo
 o\n\nREGISTRATION:\nhttps://ticketfi.com/event/1665/canada-150-lecture-tru
 th-and-reconciliation-in-canadian-post-secondary-education
DTSTAMP:20260406T175103Z
END:VEVENT
END:VCALENDAR