BEGIN:VCALENDAR
VERSION:2.0
PRODID:-//Drupal iCal API//EN
X-WR-CALNAME:Events items teaser
X-WR-TIMEZONE:America/Toronto
BEGIN:VTIMEZONE
TZID:America/Toronto
X-LIC-LOCATION:America/Toronto
BEGIN:DAYLIGHT
TZNAME:EDT
TZOFFSETFROM:-0500
TZOFFSETTO:-0400
DTSTART:20190310T070000
END:DAYLIGHT
BEGIN:STANDARD
TZNAME:EST
TZOFFSETFROM:-0400
TZOFFSETTO:-0500
DTSTART:20191103T060000
END:STANDARD
END:VTIMEZONE
BEGIN:VEVENT
UID:69d3f262e47c3
DTSTART;TZID=America/Toronto:20200304T130000
SEQUENCE:0
TRANSP:TRANSPARENT
DTEND;TZID=America/Toronto:20200304T160000
URL:https://uwaterloo.ca/communication-arts/events/comm-arts-speaks
LOCATION:DWE - Douglas Wright Engineering Building 200 University Avenue We
 st 3518 Waterloo ON N2L 3G1 Canada
SUMMARY:Comm Arts Speaks!
CLASS:PUBLIC
DESCRIPTION:JOIN US ON WEDNESDAY\, MARCH 4TH FOR COMM ARTS SPEAKS!  OUR SP
 EAKERS\nINCLUDE HENRY SVEC AND JENNIFER ROBERTS-SMITH\n\nHENRY SVEC\n\nENT
 ANGLING THE ARCHIVE: STRING FIGURES AS IMAGINARY MEDIA\n\nThe larger resea
 rch project here explores ways in which string figures\nhave offered criti
 cal theorists\, amateur anthropologists\, and artists\nalike a means of re
 imagining both the meaning and function of media\,\nfrom film in the early
  twentieth century to digital networks in the\npresent.
DTSTAMP:20260406T175026Z
END:VEVENT
END:VCALENDAR