BEGIN:VCALENDAR
VERSION:2.0
PRODID:-//Drupal iCal API//EN
X-WR-CALNAME:Events items teaser
X-WR-TIMEZONE:America/Toronto
BEGIN:VTIMEZONE
TZID:America/Toronto
X-LIC-LOCATION:America/Toronto
BEGIN:DAYLIGHT
TZNAME:EDT
TZOFFSETFROM:-0500
TZOFFSETTO:-0400
DTSTART:20200308T070000
END:DAYLIGHT
BEGIN:STANDARD
TZNAME:EST
TZOFFSETFROM:-0400
TZOFFSETTO:-0500
DTSTART:20201101T060000
END:STANDARD
END:VTIMEZONE
BEGIN:VEVENT
UID:69d3f23e95d44
DTSTART;TZID=America/Toronto:20210127T190000
SEQUENCE:0
TRANSP:TRANSPARENT
DTEND;TZID=America/Toronto:20210127T200000
URL:https://uwaterloo.ca/communication-arts/events/communication-speaks-dr-
 naila-keleta-mae
SUMMARY:Communication Speaks: Dr. Naila Keleta-Mae\, presentation/performan
 ce\,\nBlack And Free
CLASS:PUBLIC
DESCRIPTION:COMMUNICATION SPEAKS PRESENTS _BLACK AND FRE_E WITH DR. NAILA\n
 KELETA-MAE\n\nThe Speakers Series Committee is delighted to announce the v
 irtual\nedition of _Communication Speaks _with Dr. Naila Keleta-Mae's\npre
 sentation/performance\, _Black And Free_. SAVE THE DATE!
DTSTAMP:20260406T174950Z
END:VEVENT
END:VCALENDAR