BEGIN:VCALENDAR
VERSION:2.0
PRODID:-//Drupal iCal API//EN
X-WR-CALNAME:Events items teaser
X-WR-TIMEZONE:America/Toronto
BEGIN:VTIMEZONE
TZID:America/Toronto
X-LIC-LOCATION:America/Toronto
BEGIN:DAYLIGHT
TZNAME:EDT
TZOFFSETFROM:-0500
TZOFFSETTO:-0400
DTSTART:20210314T070000
END:DAYLIGHT
BEGIN:STANDARD
TZNAME:EST
TZOFFSETFROM:-0400
TZOFFSETTO:-0500
DTSTART:20201101T060000
END:STANDARD
END:VTIMEZONE
BEGIN:VEVENT
UID:69d3f216caf26
DTSTART;TZID=America/Toronto:20211005T160000
SEQUENCE:0
TRANSP:TRANSPARENT
DTEND;TZID=America/Toronto:20211005T180000
URL:https://uwaterloo.ca/communication-arts/events/centre-free-expression-c
 onversation-vershawn-young
SUMMARY:Centre for Free Expression In Conversation with Vershawn Young
CLASS:PUBLIC
DESCRIPTION:CENTRE FOR FREE EXPRESSION\n\nANTHONY STEWART IN CONVERSATION W
 ITH VERSHAWN YOUNG\n\nTHE PROBLEM OF ANTI-RACIST DISCOURSE IN CANADA AND U
 S WITH VERSHAWN\nYOUNG\n\nIn _Visitor: My Life in Canad_a\, Anthony Stewar
 t explores the lack of\na recognizable Black anti-racist discourse in Cana
 da and why Canada's\nlack of expression and commitment to Black anti-racis
 m led to him to\ngive up his full professorship at Dalhousie University to
  move to a\nsmall college in the USA.
DTSTAMP:20260406T174910Z
END:VEVENT
END:VCALENDAR