BEGIN:VCALENDAR
VERSION:2.0
PRODID:-//Drupal iCal API//EN
X-WR-CALNAME:Events items teaser
X-WR-TIMEZONE:America/Toronto
BEGIN:VTIMEZONE
TZID:America/Toronto
X-LIC-LOCATION:America/Toronto
BEGIN:DAYLIGHT
TZNAME:EDT
TZOFFSETFROM:-0500
TZOFFSETTO:-0400
DTSTART:20210314T070000
END:DAYLIGHT
BEGIN:STANDARD
TZNAME:EST
TZOFFSETFROM:-0400
TZOFFSETTO:-0500
DTSTART:20201101T060000
END:STANDARD
END:VTIMEZONE
BEGIN:VEVENT
UID:69d3f1199e6e7
DTSTART;TZID=America/Toronto:20211103T130000
SEQUENCE:0
TRANSP:TRANSPARENT
DTEND;TZID=America/Toronto:20211103T130000
URL:https://uwaterloo.ca/communication-arts/events/bridge-honouring-lives-m
 issing-and-murdered-indigenous-women
SUMMARY:Bridge: Honouring the lives of missing and murdered Indigenous wome
 n\,\ngirls and two spirit people
CLASS:PUBLIC
DESCRIPTION:_BRIDGE: HONOURING THE LIVES OF MISSING AND MURDERED INDIGENOUS
  WOMEN\,\nGIRLS\, AND TWO SPIRIT PEOPLE_\n\nAN ANNUAL INSTALLATION SINCE 2
 016 FOR 16 DAYS OF ACTIVISM AGAINST\nGENDER-BASED VIOLENCE AT THE UNIVERSI
 TY OF WATERLOO.  \n\nWatch video on YouTube [https://www.youtube.com/watc
 h?v=Zu2t6LifQl0] \n\nEveryone is welcome to participate in the _Bridge 
 _installation. \n\nOPENING CEREMONY AND FIRE ON WEDNESDAY\, NOVEMBER 3 A
 T 1:00 PM 
DTSTAMP:20260406T174457Z
END:VEVENT
END:VCALENDAR