BEGIN:VCALENDAR
VERSION:2.0
PRODID:-//Drupal iCal API//EN
X-WR-CALNAME:Events items teaser
X-WR-TIMEZONE:America/Toronto
BEGIN:VTIMEZONE
TZID:America/Toronto
X-LIC-LOCATION:America/Toronto
BEGIN:DAYLIGHT
TZNAME:EDT
TZOFFSETFROM:-0500
TZOFFSETTO:-0400
DTSTART:20140309T070000
END:DAYLIGHT
BEGIN:STANDARD
TZNAME:EST
TZOFFSETFROM:-0400
TZOFFSETTO:-0500
DTSTART:20141102T060000
END:STANDARD
END:VTIMEZONE
BEGIN:VEVENT
UID:69e69cc1e667d
DTSTART;TZID=America/Toronto:20141202T140000
SEQUENCE:0
TRANSP:TRANSPARENT
DTEND;TZID=America/Toronto:20141202T160000
URL:https://uwaterloo.ca/complexity-innovation/events/collaborating-online-
 analysis-communication-networks-linux
LOCATION:M3 - Mathematics 3 200 University Avenue West Room 2134 Waterloo O
 N N2L 3G1 Canada
SUMMARY:Collaborating online: An analysis of communication networks for lin
 ux\nkernel developers
CLASS:PUBLIC
DESCRIPTION:SPEAKER: John McLevey\n\n_A recording of the lecture can be fou
 nd below._
DTSTAMP:20260420T213809Z
END:VEVENT
END:VCALENDAR