BEGIN:VCALENDAR
VERSION:2.0
PRODID:-//Drupal iCal API//EN
X-WR-CALNAME:Events items teaser
X-WR-TIMEZONE:America/Toronto
BEGIN:VTIMEZONE
TZID:America/Toronto
X-LIC-LOCATION:America/Toronto
BEGIN:DAYLIGHT
TZNAME:EDT
TZOFFSETFROM:-0500
TZOFFSETTO:-0400
DTSTART:20110313T070000
END:DAYLIGHT
BEGIN:STANDARD
TZNAME:EST
TZOFFSETFROM:-0400
TZOFFSETTO:-0500
DTSTART:20101107T060000
END:STANDARD
END:VTIMEZONE
BEGIN:VEVENT
UID:69e69cc270eb3
DTSTART;VALUE=DATE:20110331
SEQUENCE:0
TRANSP:TRANSPARENT
DTEND;VALUE=DATE:20110401
URL:https://uwaterloo.ca/complexity-innovation/events/complexity-scaling-an
 d-cities
SUMMARY:Complexity\, scaling and cities
CLASS:PUBLIC
DESCRIPTION:SPEAKER: Mike Batty\n\nWhile in the past\, systems were often u
 nderstood as static\,\ncontrollable\, and well-defined\, new research reve
 als that many systems\nare chaotically dynamic and unclassifiable. In this
  seminar\, Mike\nBatty of the University College London Centre for Advance
 d Spatial\nAnalysis explains how these new ideas are increasingly being ap
 plied\nto cities and are changing the ways in which we design and invent\n
 urban futures.
X-MICROSOFT-CDO-ALLDAYEVENT:TRUE
DTSTAMP:20260420T213810Z
END:VEVENT
END:VCALENDAR