BEGIN:VCALENDAR
VERSION:2.0
PRODID:-//Drupal iCal API//EN
X-WR-CALNAME:Events items teaser
X-WR-TIMEZONE:America/Toronto
BEGIN:VTIMEZONE
TZID:America/Toronto
X-LIC-LOCATION:America/Toronto
BEGIN:DAYLIGHT
TZNAME:EDT
TZOFFSETFROM:-0500
TZOFFSETTO:-0400
DTSTART:20110313T070000
END:DAYLIGHT
BEGIN:STANDARD
TZNAME:EST
TZOFFSETFROM:-0400
TZOFFSETTO:-0500
DTSTART:20101107T060000
END:STANDARD
END:VTIMEZONE
BEGIN:VEVENT
UID:69e69cc487167
DTSTART;VALUE=DATE:20110323
SEQUENCE:0
TRANSP:TRANSPARENT
DTEND;VALUE=DATE:20110324
URL:https://uwaterloo.ca/complexity-innovation/events/steady-state-economic
 s
SUMMARY:Steady state economics
CLASS:PUBLIC
DESCRIPTION:Dr. Steve Purdey of the University of Toronto argues that the e
 mphasis\non growth\, which has been the focus of the world economy for ove
 r 200\nyears\, is no longer sustainable in a world of increasing scarcity.
  He\nintroduces the concept of steady-state economics (SSE) and highlights
 \nsome of the socio-economic and political challenges involved in\ntransit
 ioning to a no-growth economic system.
X-MICROSOFT-CDO-ALLDAYEVENT:TRUE
DTSTAMP:20260420T213812Z
END:VEVENT
END:VCALENDAR