BEGIN:VCALENDAR
VERSION:2.0
PRODID:-//Drupal iCal API//EN
X-WR-CALNAME:Events items teaser
X-WR-TIMEZONE:America/Toronto
BEGIN:VTIMEZONE
TZID:America/Toronto
X-LIC-LOCATION:America/Toronto
BEGIN:DAYLIGHT
TZNAME:EDT
TZOFFSETFROM:-0500
TZOFFSETTO:-0400
DTSTART:20100314T070000
END:DAYLIGHT
BEGIN:STANDARD
TZNAME:EST
TZOFFSETFROM:-0400
TZOFFSETTO:-0500
DTSTART:20101107T060000
END:STANDARD
END:VTIMEZONE
BEGIN:VEVENT
UID:69ea5d6d392cb
DTSTART;VALUE=DATE:20110308
SEQUENCE:0
TRANSP:TRANSPARENT
DTEND;VALUE=DATE:20110309
URL:https://uwaterloo.ca/complexity-innovation/events/early-warning-signs-c
 ritical-transitions
SUMMARY:Early warning signs for critical transitions
CLASS:PUBLIC
DESCRIPTION:Professor Marten Scheffer of Wageningen University discusses hi
 s\nresearch on how to discern generic early-warning signals in complex\nsy
 stems that indicate a critical threshold is approaching. Such\nresearch is
  important because tipping points can cause a sudden shift\nto a contrasti
 ng dynamical regime.
X-MICROSOFT-CDO-ALLDAYEVENT:TRUE
DTSTAMP:20260423T175701Z
END:VEVENT
END:VCALENDAR