BEGIN:VCALENDAR
VERSION:2.0
PRODID:-//Drupal iCal API//EN
X-WR-CALNAME:Events items teaser
X-WR-TIMEZONE:America/Toronto
BEGIN:VTIMEZONE
TZID:America/Toronto
X-LIC-LOCATION:America/Toronto
BEGIN:DAYLIGHT
TZNAME:EDT
TZOFFSETFROM:-0500
TZOFFSETTO:-0400
DTSTART:20100314T070000
END:DAYLIGHT
BEGIN:STANDARD
TZNAME:EST
TZOFFSETFROM:-0400
TZOFFSETTO:-0500
DTSTART:20101107T060000
END:STANDARD
END:VTIMEZONE
BEGIN:VEVENT
UID:69e69cc0ec00e
DTSTART;VALUE=DATE:20110210
SEQUENCE:0
TRANSP:TRANSPARENT
DTEND;VALUE=DATE:20110211
URL:https://uwaterloo.ca/complexity-innovation/events/how-does-technologica
 l-innovation-happen
SUMMARY:How does technological innovation happen?
CLASS:PUBLIC
DESCRIPTION:SPEAKER: W. Brian Arthur\n\nView a recording\n[http://www.perim
 eterinstitute.ca/videos/how-does-technological-innovation-happen-conversat
 ion-w-brian-arthur-nature-technology]\nof this lecture and discussion on t
 he Perimeter Institute website.\n\nIn this lecture and discussion at the P
 erimeter Institute for\nTheoretical Physics\, W. Brian Arthur reviews the 
 thesis of his book\n_The Nature of Technology_ with Lee Smolin\, Frances W
 estley\, and\nThomas Homer-Dixon. In his book\, Arthur develops a sweeping
  theory of\ntechnological innovation and change.
X-MICROSOFT-CDO-ALLDAYEVENT:TRUE
DTSTAMP:20260420T213808Z
END:VEVENT
END:VCALENDAR