BEGIN:VCALENDAR
VERSION:2.0
PRODID:-//Drupal iCal API//EN
X-WR-CALNAME:Events items teaser
X-WR-TIMEZONE:America/Toronto
BEGIN:VTIMEZONE
TZID:America/Toronto
X-LIC-LOCATION:America/Toronto
BEGIN:DAYLIGHT
TZNAME:EDT
TZOFFSETFROM:-0500
TZOFFSETTO:-0400
DTSTART:20090308T070000
END:DAYLIGHT
BEGIN:STANDARD
TZNAME:EST
TZOFFSETFROM:-0400
TZOFFSETTO:-0500
DTSTART:20091101T060000
END:STANDARD
END:VTIMEZONE
BEGIN:VEVENT
UID:69e6d2ab5e720
DTSTART;VALUE=DATE:20100126
SEQUENCE:0
TRANSP:TRANSPARENT
DTEND;VALUE=DATE:20100127
URL:https://uwaterloo.ca/complexity-innovation/events/harnessing-network-sc
 ience-reveal-our-digital-footprints
SUMMARY:Harnessing network science to reveal our digital footprints
CLASS:PUBLIC
DESCRIPTION:Dr. Jukka Pekka Onnela of Harvard University discusses how soci
 al\nnetworks are structured by and interact with cellphone communication\n
 patterns. He also outlines his research on how ‘apps’ used in\nsocial 
 networking sites influence collective human behaviour and how\ncommunity d
 etection involves the identification of tightly connected\ngroups of nodes
  in social networks.
X-MICROSOFT-CDO-ALLDAYEVENT:TRUE
DTSTAMP:20260421T012811Z
END:VEVENT
END:VCALENDAR