BEGIN:VCALENDAR
VERSION:2.0
PRODID:-//Drupal iCal API//EN
X-WR-CALNAME:Events items teaser
X-WR-TIMEZONE:America/Toronto
BEGIN:VTIMEZONE
TZID:America/Toronto
X-LIC-LOCATION:America/Toronto
BEGIN:DAYLIGHT
TZNAME:EDT
TZOFFSETFROM:-0500
TZOFFSETTO:-0400
DTSTART:20100314T070000
END:DAYLIGHT
BEGIN:STANDARD
TZNAME:EST
TZOFFSETFROM:-0400
TZOFFSETTO:-0500
DTSTART:20091101T060000
END:STANDARD
END:VTIMEZONE
BEGIN:VEVENT
UID:69e64e17a088f
DTSTART;VALUE=DATE:20101019
SEQUENCE:0
TRANSP:TRANSPARENT
DTEND;VALUE=DATE:20101020
URL:https://uwaterloo.ca/complexity-innovation/events/ranking-merit-applyin
 g-page-rank-algorithm-electoral-process
SUMMARY:On ranking merit: Applying the page-rank algorithm to the electoral
 \nprocess
CLASS:PUBLIC
DESCRIPTION:SPEAKER: Robert Spekkens
X-MICROSOFT-CDO-ALLDAYEVENT:TRUE
DTSTAMP:20260420T160231Z
END:VEVENT
END:VCALENDAR