BEGIN:VCALENDAR
VERSION:2.0
PRODID:-//Drupal iCal API//EN
X-WR-CALNAME:Events items teaser
X-WR-TIMEZONE:America/Toronto
BEGIN:VTIMEZONE
TZID:America/Toronto
X-LIC-LOCATION:America/Toronto
BEGIN:DAYLIGHT
TZNAME:EDT
TZOFFSETFROM:-0500
TZOFFSETTO:-0400
DTSTART:20100314T070000
END:DAYLIGHT
BEGIN:STANDARD
TZNAME:EST
TZOFFSETFROM:-0400
TZOFFSETTO:-0500
DTSTART:20091101T060000
END:STANDARD
END:VTIMEZONE
BEGIN:VEVENT
UID:69e69cbde7958
DTSTART;VALUE=DATE:20101104
SEQUENCE:0
TRANSP:TRANSPARENT
DTEND;VALUE=DATE:20101105
URL:https://uwaterloo.ca/complexity-innovation/events/dna-complex-cognition
 -how-we-learn-discover-and-create-world
SUMMARY:From DNA to complex cognition: How we learn\, discover\, and create
  the\nworld
CLASS:PUBLIC
DESCRIPTION:Kevin Dunbar has been engaged in studying how people engage in 
 complex\nreasoning\, social interactions\, and real-world problem solving 
 for\nover 20 years. He will discuss the key set of processes that he has\n
 discovered which explain the nature of human insight and how humans\ncreat
 e new knowledge. His findings provide an understanding of the\nmechanisms 
 that make complex thinking possible\, and suggest new ways\nthat creative 
 thought and discovery can be facilitated across a broad\nrange of contexts
 .
X-MICROSOFT-CDO-ALLDAYEVENT:TRUE
DTSTAMP:20260420T213805Z
END:VEVENT
END:VCALENDAR