BEGIN:VCALENDAR
VERSION:2.0
PRODID:-//Drupal iCal API//EN
X-WR-CALNAME:Events items teaser
X-WR-TIMEZONE:America/Toronto
BEGIN:VTIMEZONE
TZID:America/Toronto
X-LIC-LOCATION:America/Toronto
BEGIN:DAYLIGHT
TZNAME:EDT
TZOFFSETFROM:-0500
TZOFFSETTO:-0400
DTSTART:20100314T070000
END:DAYLIGHT
BEGIN:STANDARD
TZNAME:EST
TZOFFSETFROM:-0400
TZOFFSETTO:-0500
DTSTART:20091101T060000
END:STANDARD
END:VTIMEZONE
BEGIN:VEVENT
UID:69e69cbf7ce80
DTSTART;VALUE=DATE:20100322
SEQUENCE:0
TRANSP:TRANSPARENT
DTEND;VALUE=DATE:20100323
URL:https://uwaterloo.ca/complexity-innovation/events/testing-institutional
 -arrangements-agent-based-modelling-us
SUMMARY:Testing institutional arrangements via agent-based modelling: A U.S
 .\nelectricity market
CLASS:PUBLIC
DESCRIPTION:Leigh Tesfatsion of Iowa State University focuses on the potent
 ial use\nof agent-based test beds for the systematic exploration of propos
 ed\nchanges in institutional arrangements in advance of actual\nimplementa
 tion. She uses an agent-based test bed designed for the\nstudy of restruct
 ured U.S. electricity markets for concrete\nillustration.\n\nPart 1\n\nPar
 t 2
X-MICROSOFT-CDO-ALLDAYEVENT:TRUE
DTSTAMP:20260420T213807Z
END:VEVENT
END:VCALENDAR