BEGIN:VCALENDAR
VERSION:2.0
PRODID:-//Drupal iCal API//EN
X-WR-CALNAME:Events items teaser
X-WR-TIMEZONE:America/Toronto
BEGIN:VTIMEZONE
TZID:America/Toronto
X-LIC-LOCATION:America/Toronto
BEGIN:DAYLIGHT
TZNAME:EDT
TZOFFSETFROM:-0500
TZOFFSETTO:-0400
DTSTART:20090308T070000
END:DAYLIGHT
BEGIN:STANDARD
TZNAME:EST
TZOFFSETFROM:-0400
TZOFFSETTO:-0500
DTSTART:20091101T060000
END:STANDARD
END:VTIMEZONE
BEGIN:VEVENT
UID:69e6d2af60709
DTSTART;VALUE=DATE:20100309
SEQUENCE:0
TRANSP:TRANSPARENT
DTEND;VALUE=DATE:20100310
URL:https://uwaterloo.ca/complexity-innovation/events/can-information-techn
 ology-really-help-save-planet
SUMMARY:Can information technology really help save the planet?
CLASS:PUBLIC
DESCRIPTION:SPEAKER: Victor Galaz
X-MICROSOFT-CDO-ALLDAYEVENT:TRUE
DTSTAMP:20260421T012815Z
END:VEVENT
END:VCALENDAR