BEGIN:VCALENDAR
VERSION:2.0
PRODID:-//Drupal iCal API//EN
X-WR-CALNAME:Events items teaser
X-WR-TIMEZONE:America/Toronto
BEGIN:VTIMEZONE
TZID:America/Toronto
X-LIC-LOCATION:America/Toronto
BEGIN:DAYLIGHT
TZNAME:EDT
TZOFFSETFROM:-0500
TZOFFSETTO:-0400
DTSTART:20090308T070000
END:DAYLIGHT
BEGIN:STANDARD
TZNAME:EST
TZOFFSETFROM:-0400
TZOFFSETTO:-0500
DTSTART:20091101T060000
END:STANDARD
END:VTIMEZONE
BEGIN:VEVENT
UID:69e651ef41b83
DTSTART;VALUE=DATE:20091207
SEQUENCE:0
TRANSP:TRANSPARENT
DTEND;VALUE=DATE:20091208
URL:https://uwaterloo.ca/complexity-innovation/events/laws-technological-pr
 ogress
SUMMARY:Laws of technological progress
CLASS:PUBLIC
DESCRIPTION:SPEAKER: J. Doyne Farmer\n\nWith the advance of global warming\
 , the predictability of future\ntechnological change becomes a pressing an
 d relevant issue. Doyne\nFarmer of the Santa Fe Institute compares several
  different hypotheses\nfor technological improvement using different examp
 les of\ntechnologies\, ranging from computers to energy. He shows that it 
 is\nindeed possible to make useful forecasts of technological progress. He
 \nalso reviews ideas for why such laws exist\, and discusses how one can\n
 use this to address problems like global warming.
X-MICROSOFT-CDO-ALLDAYEVENT:TRUE
DTSTAMP:20260420T161855Z
END:VEVENT
END:VCALENDAR