BEGIN:VCALENDAR
VERSION:2.0
PRODID:-//Drupal iCal API//EN
X-WR-CALNAME:Events items teaser
X-WR-TIMEZONE:America/Toronto
BEGIN:VTIMEZONE
TZID:America/Toronto
X-LIC-LOCATION:America/Toronto
BEGIN:DAYLIGHT
TZNAME:EDT
TZOFFSETFROM:-0500
TZOFFSETTO:-0400
DTSTART:20090308T070000
END:DAYLIGHT
BEGIN:STANDARD
TZNAME:EST
TZOFFSETFROM:-0400
TZOFFSETTO:-0500
DTSTART:20091101T060000
END:STANDARD
END:VTIMEZONE
BEGIN:VEVENT
UID:69e69cc501389
DTSTART;VALUE=DATE:20091123
SEQUENCE:0
TRANSP:TRANSPARENT
DTEND;VALUE=DATE:20091124
URL:https://uwaterloo.ca/complexity-innovation/events/responsive-environmen
 ts-transitional-fields
SUMMARY:Responsive environments: Transitional fields
CLASS:PUBLIC
DESCRIPTION:Professor Philip Beesley of University of Waterloo’s School o
 f\nArchitecture describes field-oriented experimental architecture\ninstal
 lations\, including the recent hylozoic soil and epithelium\nseries. Drawi
 ng from the interactive behaviours of these\ninstallations\, he discusses 
 the implications of architecture that\npursues mutually dependent\, post-h
 umanist relationships.
X-MICROSOFT-CDO-ALLDAYEVENT:TRUE
DTSTAMP:20260420T213813Z
END:VEVENT
END:VCALENDAR