BEGIN:VCALENDAR
VERSION:2.0
PRODID:-//Drupal iCal API//EN
X-WR-CALNAME:Events items teaser
X-WR-TIMEZONE:America/Toronto
BEGIN:VTIMEZONE
TZID:America/Toronto
X-LIC-LOCATION:America/Toronto
BEGIN:DAYLIGHT
TZNAME:EDT
TZOFFSETFROM:-0500
TZOFFSETTO:-0400
DTSTART:20090308T070000
END:DAYLIGHT
BEGIN:STANDARD
TZNAME:EST
TZOFFSETFROM:-0400
TZOFFSETTO:-0500
DTSTART:20091101T060000
END:STANDARD
END:VTIMEZONE
BEGIN:VEVENT
UID:69e651ed3caa6
DTSTART;VALUE=DATE:20091110
SEQUENCE:0
TRANSP:TRANSPARENT
DTEND;VALUE=DATE:20091111
URL:https://uwaterloo.ca/complexity-innovation/events/revitalizing-central-
 place-theory-cities-experiments-dynamic
SUMMARY:Revitalizing central place theory: Cities as experiments on a dynam
 ic\nfitness landscape
CLASS:PUBLIC
DESCRIPTION:SPEAKER: Brad Bass\n\nCities are analogous to peaks on a dynami
 c fitness landscape. Brad\nBass of the University of Toronto discusses thi
 s concept theoretically\nand illustrates it using a geographical analysis 
 of the U.S. Patent\nDatabase. This analysis also illustrates networked\, a
 uthoritative and\nchaotic search strategies and sheds light on the stabili
 ty of the\ncentral place structure.
X-MICROSOFT-CDO-ALLDAYEVENT:TRUE
DTSTAMP:20260420T161853Z
END:VEVENT
END:VCALENDAR