BEGIN:VCALENDAR
VERSION:2.0
PRODID:-//Drupal iCal API//EN
X-WR-CALNAME:Events items teaser
X-WR-TIMEZONE:America/Toronto
BEGIN:VTIMEZONE
TZID:America/Toronto
X-LIC-LOCATION:America/Toronto
BEGIN:DAYLIGHT
TZNAME:EDT
TZOFFSETFROM:-0500
TZOFFSETTO:-0400
DTSTART:20080309T070000
END:DAYLIGHT
BEGIN:STANDARD
TZNAME:EST
TZOFFSETFROM:-0400
TZOFFSETTO:-0500
DTSTART:20081102T060000
END:STANDARD
END:VTIMEZONE
BEGIN:VEVENT
UID:69e651eeb5ac7
DTSTART;VALUE=DATE:20090225
SEQUENCE:0
TRANSP:TRANSPARENT
DTEND;VALUE=DATE:20090226
URL:https://uwaterloo.ca/complexity-innovation/events/governance-avalanches
 -self-organized-criticality-perspective
SUMMARY:Governance avalanches: A self-organized criticality perspective on\
 ninnovation in global governance
CLASS:PUBLIC
DESCRIPTION:Professor Matthew Hoffman of the University of Toronto explores
  the\napplicability of theories of self-organized criticality to the study
 \nof innovation in global governance. He presents both an agent-based\nmod
 el of the evolution of social norms and empirical illustrations of\ninnova
 tions in global governance drawn from work on climate change and\nmultilat
 eral treaty-making.
X-MICROSOFT-CDO-ALLDAYEVENT:TRUE
DTSTAMP:20260420T161854Z
END:VEVENT
END:VCALENDAR