BEGIN:VCALENDAR
VERSION:2.0
PRODID:-//Drupal iCal API//EN
X-WR-CALNAME:Events items teaser
X-WR-TIMEZONE:America/Toronto
BEGIN:VTIMEZONE
TZID:America/Toronto
X-LIC-LOCATION:America/Toronto
BEGIN:DAYLIGHT
TZNAME:EDT
TZOFFSETFROM:-0500
TZOFFSETTO:-0400
DTSTART:20080309T070000
END:DAYLIGHT
BEGIN:STANDARD
TZNAME:EST
TZOFFSETFROM:-0400
TZOFFSETTO:-0500
DTSTART:20081102T060000
END:STANDARD
END:VTIMEZONE
BEGIN:VEVENT
UID:69e651ec3bd3e
DTSTART;VALUE=DATE:20090210
SEQUENCE:0
TRANSP:TRANSPARENT
DTEND;VALUE=DATE:20090211
URL:https://uwaterloo.ca/complexity-innovation/events/complexity-approach-c
 hange-and-transformation
SUMMARY:Complexity approach to change and transformation
CLASS:PUBLIC
DESCRIPTION:Social innovation alters the basic routines and beliefs of a so
 ciety\,\nbut the durability and scale necessary to generate this momentum\
 nrequires enough interactive opportunity and action. Professor Frances\nWe
 stley\, director of Social Innovation Generation at the University of\nWat
 erloo\, discusses how disruptive social innovations can address\nseemingly
  intractable social problems such as environmental\ndegradation\, and how 
 a society able to consistently generate social\ninnovations can become soc
 ially and ecologically resilient.
X-MICROSOFT-CDO-ALLDAYEVENT:TRUE
DTSTAMP:20260420T161852Z
END:VEVENT
END:VCALENDAR