BEGIN:VCALENDAR
VERSION:2.0
PRODID:-//Drupal iCal API//EN
X-WR-CALNAME:Events items teaser
X-WR-TIMEZONE:America/Toronto
BEGIN:VTIMEZONE
TZID:America/Toronto
X-LIC-LOCATION:America/Toronto
BEGIN:DAYLIGHT
TZNAME:EDT
TZOFFSETFROM:-0500
TZOFFSETTO:-0400
DTSTART:20080309T070000
END:DAYLIGHT
BEGIN:STANDARD
TZNAME:EST
TZOFFSETFROM:-0400
TZOFFSETTO:-0500
DTSTART:20081102T060000
END:STANDARD
END:VTIMEZONE
BEGIN:VEVENT
UID:69e69cc07648f
DTSTART;VALUE=DATE:20090128
SEQUENCE:0
TRANSP:TRANSPARENT
DTEND;VALUE=DATE:20090129
URL:https://uwaterloo.ca/complexity-innovation/events/trade-versus-environm
 ent-strategic-settlement-systems
SUMMARY:Trade versus the environment: Strategic settlement from a systems\n
 engineering perspective
CLASS:PUBLIC
DESCRIPTION:Professor Keith Hipel of systems design engineering at the Univ
 ersity\nof Waterloo discusses applications of graph theory to conflict\nan
 alysis and resolution. His research focuses on local\, national\, and\nglo
 bal conflicts between the values underlying economic trading\nagreements a
 nd the principles of environmental stewardship.
X-MICROSOFT-CDO-ALLDAYEVENT:TRUE
DTSTAMP:20260420T213808Z
END:VEVENT
END:VCALENDAR