BEGIN:VCALENDAR
VERSION:2.0
PRODID:-//Drupal iCal API//EN
X-WR-CALNAME:Events items teaser
X-WR-TIMEZONE:America/Toronto
BEGIN:VTIMEZONE
TZID:America/Toronto
X-LIC-LOCATION:America/Toronto
BEGIN:DAYLIGHT
TZNAME:EDT
TZOFFSETFROM:-0500
TZOFFSETTO:-0400
DTSTART:20080309T070000
END:DAYLIGHT
BEGIN:STANDARD
TZNAME:EST
TZOFFSETFROM:-0400
TZOFFSETTO:-0500
DTSTART:20081102T060000
END:STANDARD
END:VTIMEZONE
BEGIN:VEVENT
UID:69e69cc16e198
DTSTART;VALUE=DATE:20090113
SEQUENCE:0
TRANSP:TRANSPARENT
DTEND;VALUE=DATE:20090114
URL:https://uwaterloo.ca/complexity-innovation/events/ingenuity-theory-adap
 tation-failure-and-societal-crisis
SUMMARY:Ingenuity theory: Adaptation failure and societal crisis
CLASS:PUBLIC
DESCRIPTION:Professor Thomas Homer-Dixon of the Balsillie School of Interna
 tional\nAffairs draws from his research on how societies adapt to complex\
 nstress to explore the factors making the world’s problems harder to\nso
 lve and the factors that impede the delivery of solutions to these\nproble
 ms when and where we need them.
X-MICROSOFT-CDO-ALLDAYEVENT:TRUE
DTSTAMP:20260420T213809Z
END:VEVENT
END:VCALENDAR