BEGIN:VCALENDAR
VERSION:2.0
PRODID:-//Drupal iCal API//EN
X-WR-CALNAME:Events items teaser
X-WR-TIMEZONE:America/Toronto
BEGIN:VTIMEZONE
TZID:America/Toronto
X-LIC-LOCATION:America/Toronto
BEGIN:DAYLIGHT
TZNAME:EDT
TZOFFSETFROM:-0500
TZOFFSETTO:-0400
DTSTART:20080309T070000
END:DAYLIGHT
BEGIN:STANDARD
TZNAME:EST
TZOFFSETFROM:-0400
TZOFFSETTO:-0500
DTSTART:20081102T060000
END:STANDARD
END:VTIMEZONE
BEGIN:VEVENT
UID:69e69cbae6cb5
DTSTART;VALUE=DATE:20081211
SEQUENCE:0
TRANSP:TRANSPARENT
DTEND;VALUE=DATE:20081212
URL:https://uwaterloo.ca/complexity-innovation/events/applications-complexi
 ty-science-healthcare
SUMMARY:Applications of complexity science to healthcare
CLASS:PUBLIC
DESCRIPTION:Professor Brenda Zimmerman of the Schulich School of Business e
 xamines\nhow complexity science has changed behaviours\, decision making\,
  and\ndesign in healthcare practice and public policy in the U.K.\, U.S.A.
 \,\nand Canada.
X-MICROSOFT-CDO-ALLDAYEVENT:TRUE
DTSTAMP:20260420T213802Z
END:VEVENT
END:VCALENDAR