BEGIN:VCALENDAR
VERSION:2.0
PRODID:-//Drupal iCal API//EN
X-WR-CALNAME:Events items teaser
X-WR-TIMEZONE:America/Toronto
BEGIN:VTIMEZONE
TZID:America/Toronto
X-LIC-LOCATION:America/Toronto
BEGIN:DAYLIGHT
TZNAME:EDT
TZOFFSETFROM:-0500
TZOFFSETTO:-0400
DTSTART:20080309T070000
END:DAYLIGHT
BEGIN:STANDARD
TZNAME:EST
TZOFFSETFROM:-0400
TZOFFSETTO:-0500
DTSTART:20081102T060000
END:STANDARD
END:VTIMEZONE
BEGIN:VEVENT
UID:69e69cba6fe65
DTSTART;VALUE=DATE:20081119
SEQUENCE:0
TRANSP:TRANSPARENT
DTEND;VALUE=DATE:20081120
URL:https://uwaterloo.ca/complexity-innovation/events/changing-minds-about-
 climate-change
SUMMARY:Changing minds about climate change
CLASS:PUBLIC
DESCRIPTION:Paul Thagard\, professor of Philosophy at the University of Wat
 erloo\,\naddresses how neurocomputational models of explanatory and emotio
 nal\ncoherence can explain belief change and resistance. He discusses how\
 nfeedback loops can influence minds and societies at multiple levels.
X-MICROSOFT-CDO-ALLDAYEVENT:TRUE
DTSTAMP:20260420T213802Z
END:VEVENT
END:VCALENDAR