BEGIN:VCALENDAR
VERSION:2.0
PRODID:-//Drupal iCal API//EN
X-WR-CALNAME:Events items teaser
X-WR-TIMEZONE:America/Toronto
BEGIN:VTIMEZONE
TZID:America/Toronto
X-LIC-LOCATION:America/Toronto
BEGIN:DAYLIGHT
TZNAME:EDT
TZOFFSETFROM:-0500
TZOFFSETTO:-0400
DTSTART:20080309T070000
END:DAYLIGHT
BEGIN:STANDARD
TZNAME:EST
TZOFFSETFROM:-0400
TZOFFSETTO:-0500
DTSTART:20071104T060000
END:STANDARD
END:VTIMEZONE
BEGIN:VEVENT
UID:69e69cc395b51
DTSTART;VALUE=DATE:20081027
SEQUENCE:0
TRANSP:TRANSPARENT
DTEND;VALUE=DATE:20081028
URL:https://uwaterloo.ca/complexity-innovation/events/evolution-economic-we
 alth-and-innovation
SUMMARY:The evolution of economic wealth and innovation
CLASS:PUBLIC
DESCRIPTION:Stuart Kauffman\, one of the founders of the field of complex s
 ystems\,\nexplains the principles that he proposes underlie innovation and
 \neconomic growth. He illustrates these principles with real-world\nexampl
 es from his experience in industry and academe.
X-MICROSOFT-CDO-ALLDAYEVENT:TRUE
DTSTAMP:20260420T213811Z
END:VEVENT
END:VCALENDAR