BEGIN:VCALENDAR
VERSION:2.0
PRODID:-//Drupal iCal API//EN
X-WR-CALNAME:Events items teaser
X-WR-TIMEZONE:America/Toronto
BEGIN:VTIMEZONE
TZID:America/Toronto
X-LIC-LOCATION:America/Toronto
BEGIN:DAYLIGHT
TZNAME:EDT
TZOFFSETFROM:-0500
TZOFFSETTO:-0400
DTSTART:20160313T070000
END:DAYLIGHT
BEGIN:STANDARD
TZNAME:EST
TZOFFSETFROM:-0400
TZOFFSETTO:-0500
DTSTART:20151101T060000
END:STANDARD
END:VTIMEZONE
BEGIN:VEVENT
UID:69e6d2acd0739
DTSTART;TZID=America/Toronto:20161014T153000
SEQUENCE:0
TRANSP:TRANSPARENT
DTEND;TZID=America/Toronto:20161014T163000
URL:https://uwaterloo.ca/complexity-innovation/events/math-frontlines-appli
 cations-complex-systems-methods
LOCATION:QNC - Quantum Nano Centre 200 University Avenue West 1501 Waterloo
  ON N2L 3G1 Canada
SUMMARY:Math on the frontlines: Applications of complex systems methods in\
 nconflict research
CLASS:PUBLIC
DESCRIPTION:SPEAKER\n\nAlexander “Sasha” Gutfraind\n\nMasters in applie
 d math\, University of Waterloo\n\nPhD\, Cornell University\n\nLecturer\, 
 Loyola University Medical Center\n\nAdjunct RA professor – University of
  Illinois at Chicago\n\nChief health data scientist\, Uptake Technologies
DTSTAMP:20260421T012812Z
END:VEVENT
END:VCALENDAR