BEGIN:VCALENDAR
VERSION:2.0
PRODID:-//Drupal iCal API//EN
X-WR-CALNAME:Events items teaser
X-WR-TIMEZONE:America/Toronto
BEGIN:VTIMEZONE
TZID:America/Toronto
X-LIC-LOCATION:America/Toronto
BEGIN:DAYLIGHT
TZNAME:EDT
TZOFFSETFROM:-0500
TZOFFSETTO:-0400
DTSTART:20140309T070000
END:DAYLIGHT
BEGIN:STANDARD
TZNAME:EST
TZOFFSETFROM:-0400
TZOFFSETTO:-0500
DTSTART:20131103T060000
END:STANDARD
END:VTIMEZONE
BEGIN:VEVENT
UID:69e73dd0d3cdf
DTSTART;VALUE=DATE:20140818
SEQUENCE:0
TRANSP:TRANSPARENT
DTEND;VALUE=DATE:20140819
URL:https://uwaterloo.ca/complexity-innovation/events/women-math-summer-sch
 ool-public-lecture-understanding
SUMMARY:Women in math summer school public lecture on understanding tipping
 \npoints in climate and sustainability
CLASS:PUBLIC
DESCRIPTION:SPEAKER: Mary-Lou Zeeman\, Bowdoin College
X-MICROSOFT-CDO-ALLDAYEVENT:TRUE
DTSTAMP:20260421T090520Z
END:VEVENT
END:VCALENDAR