BEGIN:VCALENDAR
VERSION:2.0
PRODID:-//Drupal iCal API//EN
X-WR-CALNAME:Events items teaser
X-WR-TIMEZONE:America/Toronto
BEGIN:VTIMEZONE
TZID:America/Toronto
X-LIC-LOCATION:America/Toronto
BEGIN:DAYLIGHT
TZNAME:EDT
TZOFFSETFROM:-0500
TZOFFSETTO:-0400
DTSTART:20140309T070000
END:DAYLIGHT
BEGIN:STANDARD
TZNAME:EST
TZOFFSETFROM:-0400
TZOFFSETTO:-0500
DTSTART:20131103T060000
END:STANDARD
END:VTIMEZONE
BEGIN:VEVENT
UID:69e69cbfe6b1f
DTSTART;TZID=America/Toronto:20140623T150000
SEQUENCE:0
TRANSP:TRANSPARENT
DTEND;TZID=America/Toronto:20140623T160000
URL:https://uwaterloo.ca/complexity-innovation/events/distinguished-lecture
 -professor-deborah-estrin-small-nme
LOCATION:HH - J.G. Hagey Hall of the Humanities 200 University Avenue West 
 Waterloo ON N2L 3G1 Canada
SUMMARY:Distinguished lecture by Professor Deborah Estrin – Small\, n=me\
 ,\ndata
CLASS:PUBLIC
DESCRIPTION:The Cheriton School of Computer Science is hosting a distinguis
 hed\nlecture by Professor Deborah Estrin on June 23 at 3 p.m. Full details
 \nare available below or on the Cheriton School’s\n[http://cs.uwaterloo.
 ca/dls-deborah-estrin]website\n[http://cs.uwaterloo.ca/dls-deborah-estrin]
 .\n\nSPEAKER: Deborah Estrin\, Cornell NYC Tech
DTSTAMP:20260420T213807Z
END:VEVENT
END:VCALENDAR