BEGIN:VCALENDAR
VERSION:2.0
PRODID:-//Drupal iCal API//EN
X-WR-CALNAME:Events items teaser
X-WR-TIMEZONE:America/Toronto
BEGIN:VTIMEZONE
TZID:America/Toronto
X-LIC-LOCATION:America/Toronto
BEGIN:DAYLIGHT
TZNAME:EDT
TZOFFSETFROM:-0500
TZOFFSETTO:-0400
DTSTART:20110313T070000
END:DAYLIGHT
BEGIN:STANDARD
TZNAME:EST
TZOFFSETFROM:-0400
TZOFFSETTO:-0500
DTSTART:20111106T060000
END:STANDARD
END:VTIMEZONE
BEGIN:VEVENT
UID:69e6d2a95e9fc
DTSTART;VALUE=DATE:20111117
SEQUENCE:0
TRANSP:TRANSPARENT
DTEND;VALUE=DATE:20111118
URL:https://uwaterloo.ca/complexity-innovation/events/crime-and-terror-math
 ematical-exploration-and-modelling-dark
SUMMARY:Crime and terror: Mathematical exploration and modelling of dark\nn
 etworks
CLASS:PUBLIC
DESCRIPTION:SPEAKER: Sasha Gutfraind (University of Texas at Austin)\nAPPLI
 ED MATHEMATICS COLLOQUIUM
X-MICROSOFT-CDO-ALLDAYEVENT:TRUE
DTSTAMP:20260421T012809Z
END:VEVENT
END:VCALENDAR