BEGIN:VCALENDAR
VERSION:2.0
PRODID:-//Drupal iCal API//EN
X-WR-CALNAME:Events items teaser
X-WR-TIMEZONE:America/Toronto
BEGIN:VTIMEZONE
TZID:America/Toronto
X-LIC-LOCATION:America/Toronto
BEGIN:DAYLIGHT
TZNAME:EDT
TZOFFSETFROM:-0500
TZOFFSETTO:-0400
DTSTART:20160313T070000
END:DAYLIGHT
BEGIN:STANDARD
TZNAME:EST
TZOFFSETFROM:-0400
TZOFFSETTO:-0500
DTSTART:20161106T060000
END:STANDARD
END:VTIMEZONE
BEGIN:VEVENT
UID:69e69cc3f18f1
DTSTART;TZID=America/Toronto:20170221T143000
SEQUENCE:0
TRANSP:TRANSPARENT
DTEND;TZID=America/Toronto:20170221T153000
URL:https://uwaterloo.ca/complexity-innovation/events/wici-talk-dr-alexande
 r-wong-deep-learning-darwin
LOCATION:DC - William G. Davis Computer Research Centre 200 University Aven
 ue West Room 1302 Waterloo ON N2L 3G1 Canada
SUMMARY:WICI Talk: Dr. Alexander Wong “Deep Learning with Darwin:\nEvolut
 ionary Synthesis of Operational Deep Intelligence”
CLASS:PUBLIC
DESCRIPTION:Deep learning has given rise to a major revolution in the field
  of\nartificial intelligence (AI). A major challenge with the\ndemocratiza
 tion and proliferation of deep learning as commodity AI for\nall is the sh
 eer complexity of current deep neural networks\, making\nthem ill-suited f
 or operational use in a large number of scenarios.
DTSTAMP:20260420T213812Z
END:VEVENT
END:VCALENDAR