BEGIN:VCALENDAR
VERSION:2.0
PRODID:-//Drupal iCal API//EN
X-WR-CALNAME:Events items teaser
X-WR-TIMEZONE:America/Toronto
BEGIN:VTIMEZONE
TZID:America/Toronto
X-LIC-LOCATION:America/Toronto
BEGIN:DAYLIGHT
TZNAME:EDT
TZOFFSETFROM:-0500
TZOFFSETTO:-0400
DTSTART:20160313T070000
END:DAYLIGHT
BEGIN:STANDARD
TZNAME:EST
TZOFFSETFROM:-0400
TZOFFSETTO:-0500
DTSTART:20161106T060000
END:STANDARD
END:VTIMEZONE
BEGIN:VEVENT
UID:69e69cbb68990
DTSTART;TZID=America/Toronto:20170307T143000
SEQUENCE:0
TRANSP:TRANSPARENT
DTEND;TZID=America/Toronto:20170307T143000
URL:https://uwaterloo.ca/complexity-innovation/events/wici-talk-professor-s
 ara-walker-bio-bit-quantifying-origins
LOCATION:DC - William G. Davis Computer Research Centre 200 University Aven
 ue West Room 1302 Waterloo ON N2L 3G1 Canada
SUMMARY:WICI Talk: Professor Sara Walker “Bio from Bit: Quantifying the\n
 Origins of Life”
CLASS:PUBLIC
DESCRIPTION:The origin of life remains one of the most stubborn open questi
 ons in\nscience. One of the primary stumbling blocks is that we do not yet
 \nhave a universal understanding of what life is.
DTSTAMP:20260420T213803Z
END:VEVENT
END:VCALENDAR