BEGIN:VCALENDAR
VERSION:2.0
PRODID:-//Drupal iCal API//EN
X-WR-CALNAME:Events items teaser
X-WR-TIMEZONE:America/Toronto
BEGIN:VTIMEZONE
TZID:America/Toronto
X-LIC-LOCATION:America/Toronto
BEGIN:DAYLIGHT
TZNAME:EDT
TZOFFSETFROM:-0500
TZOFFSETTO:-0400
DTSTART:20170312T070000
END:DAYLIGHT
BEGIN:STANDARD
TZNAME:EST
TZOFFSETFROM:-0400
TZOFFSETTO:-0500
DTSTART:20161106T060000
END:STANDARD
END:VTIMEZONE
BEGIN:VEVENT
UID:69e0aa2c6893f
DTSTART;TZID=America/Toronto:20171002T140000
SEQUENCE:0
TRANSP:TRANSPARENT
DTEND;TZID=America/Toronto:20171002T150000
URL:https://uwaterloo.ca/complexity-innovation/events/wici-talk-dr-johan-ko
 skinen-analysing-covert-networks
LOCATION:DC - William G. Davis Computer Research Centre 200 University Aven
 ue West 1304 Waterloo ON N2L 3G1 Canada
SUMMARY:WICI Talk: Dr. Johan Koskinen -Analysing covert networks from\nunst
 ructured sources
CLASS:PUBLIC
DESCRIPTION:Understanding covert and criminal behaviour from a social netwo
 rk\nperspective is gathering increasing currency. While the standard\nsoci
 al network paradigm assumes that network data has been collected\nthough e
 liciting ties from respondents in a predefined set of\nindividuals\, cover
 t networks pose obviously challenges in several\nrespects. Firstly\, the i
 ndividuals in the network might not be known\na prior. Secondly\, what co
 nstitutes a relevant set of individuals and\nties might be ambiguous.
DTSTAMP:20260416T092148Z
END:VEVENT
END:VCALENDAR